BEGIN:VCALENDAR
VERSION:2.0
PRODID:-//Landeskirchliche Gemeinschaft Hohenstein-Ernstthal - ECPv6.15.20//NONSGML v1.0//EN
CALSCALE:GREGORIAN
METHOD:PUBLISH
X-WR-CALNAME:Landeskirchliche Gemeinschaft Hohenstein-Ernstthal
X-ORIGINAL-URL:https://lkg-hohenstein-ernstthal.de
X-WR-CALDESC:Veranstaltungen für Landeskirchliche Gemeinschaft Hohenstein-Ernstthal
REFRESH-INTERVAL;VALUE=DURATION:PT1H
X-Robots-Tag:noindex
X-PUBLISHED-TTL:PT1H
BEGIN:VTIMEZONE
TZID:Europe/Berlin
BEGIN:DAYLIGHT
TZOFFSETFROM:+0100
TZOFFSETTO:+0200
TZNAME:CEST
DTSTART:20250330T010000
END:DAYLIGHT
BEGIN:STANDARD
TZOFFSETFROM:+0200
TZOFFSETTO:+0100
TZNAME:CET
DTSTART:20251026T010000
END:STANDARD
BEGIN:DAYLIGHT
TZOFFSETFROM:+0100
TZOFFSETTO:+0200
TZNAME:CEST
DTSTART:20260329T010000
END:DAYLIGHT
BEGIN:STANDARD
TZOFFSETFROM:+0200
TZOFFSETTO:+0100
TZNAME:CET
DTSTART:20261025T010000
END:STANDARD
BEGIN:DAYLIGHT
TZOFFSETFROM:+0100
TZOFFSETTO:+0200
TZNAME:CEST
DTSTART:20270328T010000
END:DAYLIGHT
BEGIN:STANDARD
TZOFFSETFROM:+0200
TZOFFSETTO:+0100
TZNAME:CET
DTSTART:20271031T010000
END:STANDARD
END:VTIMEZONE
BEGIN:VEVENT
DTSTART;TZID=Europe/Berlin:20260426T170000
DTEND;TZID=Europe/Berlin:20260426T180000
DTSTAMP:20260420T125649
CREATED:20260317T150806Z
LAST-MODIFIED:20260317T150806Z
UID:5104-1777222800-1777226400@lkg-hohenstein-ernstthal.de
SUMMARY:musikalische Gemeinschaftsstunde
DESCRIPTION:Wir laden herzlich zu einer musikalischen Gemeinschaftsstunde ein. \nEin gemischter Chor wir von Saiteninstrumenten begleitet. Lassen Sie sich überraschen!
URL:https://lkg-hohenstein-ernstthal.de/termin/musikalische-gemeinschaftsstunde/
LOCATION:Haus der Gemeinschaft\, Kroatenweg 8\, Hohenstein-Ernstthal\, 09337
END:VEVENT
END:VCALENDAR